BEGIN:VCALENDAR
VERSION:2.0
PRODID:-//suki o&#039;kane - ECPv6.15.20//NONSGML v1.0//EN
CALSCALE:GREGORIAN
METHOD:PUBLISH
X-ORIGINAL-URL:https://sukiokane.com
X-WR-CALDESC:Events for suki o&#039;kane
REFRESH-INTERVAL;VALUE=DURATION:PT1H
X-Robots-Tag:noindex
X-PUBLISHED-TTL:PT1H
BEGIN:VTIMEZONE
TZID:America/Los_Angeles
BEGIN:DAYLIGHT
TZOFFSETFROM:-0800
TZOFFSETTO:-0700
TZNAME:PDT
DTSTART:20150308T100000
END:DAYLIGHT
BEGIN:STANDARD
TZOFFSETFROM:-0700
TZOFFSETTO:-0800
TZNAME:PST
DTSTART:20151101T090000
END:STANDARD
BEGIN:DAYLIGHT
TZOFFSETFROM:-0800
TZOFFSETTO:-0700
TZNAME:PDT
DTSTART:20160313T100000
END:DAYLIGHT
BEGIN:STANDARD
TZOFFSETFROM:-0700
TZOFFSETTO:-0800
TZNAME:PST
DTSTART:20161106T090000
END:STANDARD
BEGIN:DAYLIGHT
TZOFFSETFROM:-0800
TZOFFSETTO:-0700
TZNAME:PDT
DTSTART:20170312T100000
END:DAYLIGHT
BEGIN:STANDARD
TZOFFSETFROM:-0700
TZOFFSETTO:-0800
TZNAME:PST
DTSTART:20171105T090000
END:STANDARD
END:VTIMEZONE
BEGIN:VTIMEZONE
TZID:UTC
BEGIN:STANDARD
TZOFFSETFROM:+0000
TZOFFSETTO:+0000
TZNAME:UTC
DTSTART:20140101T000000
END:STANDARD
END:VTIMEZONE
BEGIN:VEVENT
DTSTART;TZID=America/Los_Angeles:20160710T080000
DTEND;TZID=America/Los_Angeles:20160710T210000
DTSTAMP:20260419T143630
CREATED:20160612T230339Z
LAST-MODIFIED:20160706T094503Z
UID:10000082-1468137600-1468184400@sukiokane.com
SUMMARY:Shapeshifters Cinema: Sweeping\, Swept\, Out of My Head
DESCRIPTION:Premiering a piece “Sweeping\, Swept\, Out of My Head” for quartet of brooms and hand-held projections at the most awesome Shapeshifters Cinema\, Oakland’s monthly series for expanded cinema. The backing band is a quartet of musicians Wayne Grim\, Adria Otte\, and performative projectionists Alfonso Alvarez and Ian Winters. \nSweeping by me and \n\nSasha Hom\nAmy Rathbone\nJeremy Rourke
URL:https://sukiokane.com/event/shapeshifters-cinema-sweeping-swept-out-of-my-head/
LOCATION:Temescal Art Center\, 511 48th Street\, Oakland\, CA\, 94609\, United States
END:VEVENT
BEGIN:VEVENT
DTSTART;TZID=UTC:20150913T200000
DTEND;TZID=UTC:20150913T210000
DTSTAMP:20260419T143630
CREATED:20150906T050415Z
LAST-MODIFIED:20150906T050625Z
UID:10000051-1442174400-1442178000@sukiokane.com
SUMMARY:Shapeshifters Cinema
DESCRIPTION:Sitting in on low floor tom and balafon as Steven Dye and Alfonso Alvarez immerse the Temescal Art Center in light and sound. Steve’s trio includes him on ukulele\, Maat Valkyr on sitar\, me\, and several alternate tunings that tend to hypnotize.
URL:https://sukiokane.com/event/shapeshifters-cinema/
LOCATION:Temescal Art Center\, 511 48th Street\, Oakland\, CA\, 94609\, United States
END:VEVENT
BEGIN:VEVENT
DTSTART;TZID=UTC:20150125T193000
DTEND;TZID=UTC:20150125T220000
DTSTAMP:20260419T143630
CREATED:20150202T013227Z
LAST-MODIFIED:20150202T013432Z
UID:10000026-1422214200-1422223200@sukiokane.com
SUMMARY:Doors That Only Open In Silence
DESCRIPTION:I tend to believe that. \nPlaying less and less of increasingly smaller rig at Jacob Felix Heule‘s monthly series of improvisation research with whomever shows up + members of the Lab Improvisation Group (Jacob\, Tom Djll\, and Tim Perkis).
URL:https://sukiokane.com/event/doors-that-only-open-in-silence/
LOCATION:Temescal Art Center\, 511 48th Street\, Oakland\, CA\, 94609\, United States
ATTACH;FMTTYPE=image/jpeg:https://sukiokane.com/wp-content/uploads/2015/02/1658296_782986031754707_6461934917853708073_o.jpg
END:VEVENT
END:VCALENDAR